BEGIN:VCALENDAR
VERSION:2.0
PRODID:-//NXT Generation Mortuary Support - ECPv6.15.20//NONSGML v1.0//EN
CALSCALE:GREGORIAN
METHOD:PUBLISH
X-ORIGINAL-URL:https://www.nxtgenmortuarysupport.com
X-WR-CALDESC:Events for NXT Generation Mortuary Support
REFRESH-INTERVAL;VALUE=DURATION:PT1H
X-Robots-Tag:noindex
X-PUBLISHED-TTL:PT1H
BEGIN:VTIMEZONE
TZID:America/Phoenix
BEGIN:STANDARD
TZOFFSETFROM:-0700
TZOFFSETTO:-0700
TZNAME:MST
DTSTART:20210101T000000
END:STANDARD
END:VTIMEZONE
BEGIN:VEVENT
DTSTART;TZID=America/Phoenix:20260224T180000
DTEND;TZID=America/Phoenix:20260224T180000
DTSTAMP:20260423T175749
CREATED:20260223T191323Z
LAST-MODIFIED:20260204T180024Z
UID:14537-1771956000-1771956000@www.nxtgenmortuarysupport.com
SUMMARY:So You Want to be a Mortician-A Real-World Guide to Breaking Into Death Care Feb 23\, 2026
DESCRIPTION:How to Become a Mortician: A Real-World Guide to Breaking Into Death Care \nI wish I had guidance when I was trying to figure out how to become a mortician. The reality is that our underground world in death care is truly difficult to break into. Historically funeral directing was a family-run business passed down from generation after generation. Rarely were outsiders like you and I accepted to work in the noble profession. Things are changing\, and now is a better time than ever for those interested in becoming a mortician to break in…especially women! I am a first-generation funeral director\, and I had to learn over years of having doors slammed in my face how to break into the profession. It took me 14 years\, but I finally made it! I will show you how I became a funeral industry leader/influencer and help you become one too! \nOver the years my email box and social media DMs have been inundated with questions from people like yourself asking\, “How do I become a Mortician?” I had so many that I decided to create a class to help people fulfill their dreams. \nYou will have all you need to begin your journey to care for the dead and comfort the grieving. Your investment includes: \n\nHow to build a Morticians resume\nHow to use social media to leverage an entry-level job at a funeral home\nA strategic plan on how to land your dream job\nA copy of my personal professional directory of funeral service professors from around the USA\nDetailed information that will answer all your questions on what to expect in a career as a funeral director or embalmer\, such as\nWhat will I earn?\nCan I study by distance?\nWhat does an embalmer or a funeral director actually do?\nWhat skills do I need to be a funeral director?\nWhat training and leadership resources are available to me?\nWhat exactly is embalming?\nHow do I gain experience?\nCan I just do the make up and hair?\nLearn skills you will need working in a male-dominated science field\nHow will I know if I can handle a career working with dead bodies?\nDo I have to work with dead bodies in order to be a mortician?\nWho to contact to help you study for and pass the National Board Exam on the first time\nA personal letter of recommendation with my logo and letterhead for future employers\nA 1 hour one on one mock interview coaching session with me for your first big job at a funeral home\nShwag bag with Cold Hands Merch\n\nIncluded Bonus: Scholarship Guide \nMost importantly\, you will get your own downloadable pdf copy of my scholarship guide\, \nThe Future Morticians Guide to Academic Scholarships – $495 value \nMy booklet includes over $60\,000 dollars worth of future mortician-specific scholarship opportunities! \nYes\, that’s right\, I have completed over 10 years’ worth of research to find these opportunities and documented them all in one place for you! No future mortician should have to pay for school\, but knowing where to look and who to talk to is the key. \nEnrollment & Payment Options \nFlexible payment options are available.We accept PayPal Pay Later and offer student financing through Lending USA (available to U.S. citizens) \nStart Your Journey!
URL:https://www.nxtgenmortuarysupport.com/event/so-you-want-to-be-a-mortician-feb-23-2026-2/
CATEGORIES:In-Person Event,Open to the Public,Professionals/Students
ATTACH;FMTTYPE=image/jpeg:https://www.nxtgenmortuarysupport.com/wp-content/uploads/2021/06/So-You-Want-to-Be-a-Mortician.jpg
END:VEVENT
BEGIN:VEVENT
DTSTART;TZID=America/Phoenix:20240805T160000
DTEND;TZID=America/Phoenix:20240805T180000
DTSTAMP:20260423T175749
CREATED:20231210T173909Z
LAST-MODIFIED:20240103T234235Z
UID:13734-1722873600-1722880800@www.nxtgenmortuarysupport.com
SUMMARY:So You Want to be a Mortician IN PERSON EVENT at Curious Nature
DESCRIPTION:I wish I had guidance when I was trying to figure out how to become a mortician. The reality is that our underground world in death care is truly difficult to break into. Historically funeral directing was a family-run business passed down from generation after generation. Rarely were outsiders like you and I accepted to work in the noble profession. Things are changing\, and now is a better time than ever for those interested in becoming a mortician to break in…especially women! I am a first-generation funeral director\, and I had to learn over years of having doors slammed in my face how to break into the profession. It took me 14 years\, but I finally made it! I will show you how I became a funeral industry leader/influencer and help you become one too! \nOver the years my email box and social media DMs have been inundated with questions from people like yourself asking\, “How do I become a Mortician?” I had so many that I decided to create a class to help people fulfill their dreams. \nYou will have all you need to begin your journey to care for the dead and comfort the grieving. Your investment includes: \n\nHow to build a Morticians resume\nHow to use social media to leverage an entry-level job at a funeral home (believe me\, this is important to understand what to post and what NOT to post)\nA strategic plan on how to land your dream job\nA copy of my personal professional directory of funeral service professors from around the USA\nDetailed information that will answer all your questions on what to expect in a career as a funeral director or embalmer\, such as\nWhat will I earn?\nCan I study by distance?\nWhat does an embalmer or a funeral director actually do?\nWhat skills do I need to be a restorative artist/embalmer like Cold Hands?\nWhat skills do I need to be a funeral director?\nWhat training and leadership resources are available to me?\nWhat exactly is embalming?\nHow do I gain experience?\nLearn skills you will need working in a male-dominated science field\nHow will I know if I can handle a career working with dead bodies?\nDo I have to work with dead bodies in order to be a mortician?\nWho to contact to help you study for and pass the National Board Exam on the first time\nA personal letter of recommendation with my logo and letterhead for future employers\n40% off all embalming courses (upon acceptance into an accredited college of mortuary science)\nA 1 hour one on one mock interview coaching session with me for your first big job at a funeral home\nShwag bag with Cold Hands Merch\nAcceptance into my Cold Hands Community FB page\, which contains 100 of the most influential leaders in the funeral industry\n\nMost importantly\, you will get your own downloadable pdf copy of my pdf booklet\, \n“The Future Morticians Guide to Academic Scholarships” – $495 value \nMy booklet includes over $60\,000 dollars worth of future mortician-specific scholarship opportunities! No future mortician should have to pay out of pocket for education. \nYes\, that’s right\, I have completed over 10 years’ worth of research to find these opportunities and documented them all in one place for you! No future mortician should have to pay for school\, but knowing where to look and who to talk to is the key. \nNeed payment options? We accept Paypal Pay Later and offer student financing options through our partners Lending USA (available to American citizens).
URL:https://www.nxtgenmortuarysupport.com/event/so-you-want-to-be-a-mortician-aug-5-2024/
LOCATION:Curious Nature\, : 4346 N 7th Ave\, Phoenix\, AZ 85013\, Phoenix\, AZ\, 85103\, United States
CATEGORIES:In-Person Event,Open to the Public
ATTACH;FMTTYPE=image/jpeg:https://www.nxtgenmortuarysupport.com/wp-content/uploads/2021/06/So-You-Want-to-Be-a-Mortician.jpg
END:VEVENT
BEGIN:VEVENT
DTSTART;TZID=America/Phoenix:20240721T120000
DTEND;TZID=America/Phoenix:20240721T140000
DTSTAMP:20260423T175749
CREATED:20231211T160611Z
LAST-MODIFIED:20240709T045939Z
UID:13774-1721563200-1721570400@www.nxtgenmortuarysupport.com
SUMMARY:Death of a Pet Jul 21\, 2024 IN PERSON at Curious Nature
DESCRIPTION:Course Duration: 2 hour \nDescription: Join me at Curious Nature for this IN PERSON event! \nMonica Torres LFD and internally recognized Embalmer/Postmortem Reconstructive Specialist shares her own experiences preparing her beloved pet Fancy after a traumatic and unexpected death due to a dog fight. This class includes dos and don’ts of preparations of the body including special considerations for trauma cases and unexpected deaths. The course includes technical postmortem instruction on how to provide a home funeral successfully for a beloved pet. \nIn many instances losing our beloved pets can be more impactful than losing a human counterpart. The bonds we share with our animals are unlike any human relationship we encounter. In this enthralling seminar\, Torres presents and delivers a practical guideline on how to create a loving tribute at home for your beloved pet prior to burial or cremation with body centered focus. \nTorres offers practical technical training on how to disinfect\, bathe and prepare the dead body of a family pet or service animal for public or private viewing. Further exploration focuses on the social aspects of how the death of a pet can be traumatizing and isolating. Torres imparts personal experience and tips on how to move through this difficult process with the support of friends and family. Once our pet is “put down” or found expired\, a separate journey begins. There are options that most are not aware of such as preparing the body of your beloved pet at home and hosting your own home funeral for your pet and your family. This course is suitable for professionals or those who wish to provide after death care themselves \n \nEvent Number: 21-9370\nContact Hours: 2\nAPFSP Category: B\nAPFSP CEUs: 2
URL:https://www.nxtgenmortuarysupport.com/event/death-of-a-pet-jul-21-2024/
LOCATION:Curious Nature\, : 4346 N 7th Ave\, Phoenix\, AZ 85013\, Phoenix\, AZ\, 85103\, United States
CATEGORIES:In-Person Event,Open to the Public,Professionals/Students
ATTACH;FMTTYPE=image/jpeg:https://www.nxtgenmortuarysupport.com/wp-content/uploads/2021/04/CU-AND-ME.jpg
END:VEVENT
BEGIN:VEVENT
DTSTART;TZID=America/Phoenix:20240708T160000
DTEND;TZID=America/Phoenix:20240708T180000
DTSTAMP:20260423T175750
CREATED:20231226T161522Z
LAST-MODIFIED:20240224T181459Z
UID:13900-1720454400-1720461600@www.nxtgenmortuarysupport.com
SUMMARY:Death of a Pet Jul 8\, 2024
DESCRIPTION:Course Duration: 2 hour \nDescription: \nMonica Torres LFD and internally recognized Embalmer/Postmortem Reconstructive Specialist shares her own experiences preparing her beloved pet Fancy after a traumatic and unexpected death due to a dog fight. This class includes dos and don’ts of preparations of the body including special considerations for trauma cases and unexpected deaths. The course includes technical postmortem instruction on how to provide a home funeral successfully for a beloved pet. \nIn many instances losing our beloved pets can be more impactful than losing a human counterpart. The bonds we share with our animals are unlike any human relationship we encounter. In this enthralling seminar\, Torres presents and delivers a practical guideline on how to create a loving tribute at home for your beloved pet prior to burial or cremation with body centered focus. \nTorres offers practical technical training on how to disinfect\, bathe and prepare the dead body of a family pet or service animal for public or private viewing. Further exploration focuses on the social aspects of how the death of a pet can be traumatizing and isolating. Torres imparts personal experience and tips on how to move through this difficult process with the support of friends and family. Once our pet is “put down” or found expired\, a separate journey begins. There are options that most are not aware of such as preparing the body of your beloved pet at home and hosting your own home funeral for your pet and your family. This course is suitable for professionals or those who wish to provide after death care themselves \n \nEvent Number: 21-9370\nContact Hours: 2\nAPFSP Category: B\nAPFSP CEUs: 2
URL:https://www.nxtgenmortuarysupport.com/event/death-of-a-pet-jul-8-2024/
CATEGORIES:In-Person Event,Open to the Public,Professionals/Students
ATTACH;FMTTYPE=image/jpeg:https://www.nxtgenmortuarysupport.com/wp-content/uploads/2021/04/CU-AND-ME.jpg
END:VEVENT
BEGIN:VEVENT
DTSTART;TZID=America/Phoenix:20230608T160000
DTEND;TZID=America/Phoenix:20230608T171500
DTSTAMP:20260423T175750
CREATED:20221122T163854Z
LAST-MODIFIED:20230531T151109Z
UID:13155-1686240000-1686244500@www.nxtgenmortuarysupport.com
SUMMARY:The Future of Embalming
DESCRIPTION:1 hr seminar \nThis online experience is available to the public. Join your lady embalmer for the first time in history on a fantastic journey into the underbelly of the death industry and into the embalming room where Cold Hands Hosts YOU! This experience is designed for those who are curious about pursuing a career as a professional mortician\, end of life doula or for those who simply have an unsatiated passion to learn about anatomy and mortuary science. Finally\, there is a respectful place for your morbid curiosity to thrive. \nAward-winning and internationally recognized embalming technical trainer Monica Torres will share new techniques in postmortem demi surgery that mimic trends in modern-day plastic surgery. You will marvel at illustrated trademarked techniques such as the No Wax Torres Technique for postmortem hair replacement\, the Torres Tummy Tuck Technique for autopsy repair cases\, and the No Leak Torres Technique for green burial enthusiasts. \nParticipants will get an inside look at what the modernization of a century-old American death practice looks like. Ms. Torres will briefly cover the history of embalming and the transformation from an American wartime death craft into a highly commercialized technical trade skill. Monica will also share what her company is doing to propel the waning dark art into our modern era\, where beautification and expression of the dead human body are unparalleled. \nFinally\, common questions will be answered during the Cold Hands Answers “slab side chat.” Ms. Torres invites the participant into a safe place to explore the subject of conquering common fears surrounding death and death work. \nOur goal is to provide you with a comfortable and warm environment to learn about death and embalming.  We are burying the last taboo and invite you to ask questions about the dismal trade and become part of our Cold Hands Community\, where experiencing the macabre is a way of life. \nParticipants must be 18 years of age and must sign a waiver of release of liability. \nDISCLAIMER: This course contains graphic images. Permission has been granted from the families of the deceased for educational purposes\, and the dignity of the deceased will not be compromised.
URL:https://www.nxtgenmortuarysupport.com/event/the-future-of-embalming/
CATEGORIES:In-Person Event,Open to the Public
ATTACH;FMTTYPE=image/jpeg:https://www.nxtgenmortuarysupport.com/wp-content/uploads/2020/07/5-Things-They-Won’t-Teach-you-in-Mortuary-College.jpg
END:VEVENT
BEGIN:VEVENT
DTSTART;TZID=America/Phoenix:20230331T170000
DTEND;TZID=America/Phoenix:20230331T180000
DTSTAMP:20260423T175750
CREATED:20230330T011103Z
LAST-MODIFIED:20230331T223308Z
UID:13439-1680282000-1680285600@www.nxtgenmortuarysupport.com
SUMMARY:Q and A Infant Embalming
DESCRIPTION:OPEN TO THE PUBLIC  \nQ and A Infant Embalming with Cold Hands \nJoin Cold Hands for rapid-fire Q and A! \nThis is a one-hour live event focused on the difficult subject of Infant Body Preparations after death. All are invited to join my very first “Pop Up Event” Join Cold Hands and the Cold Hands Community for a rare chance to ask questions about best practices\, difficult cases\, options for bereaved parents\, and much more. \nThis is a safe and comfortable space to learn. All questions are welcome Dignity and respect to families that have suffered the loss of a child will be upheld.
URL:https://www.nxtgenmortuarysupport.com/event/q-and-a-infant-embalming-march-31-2023/
CATEGORIES:Live Zoom Courses,Open to the Public
ATTACH;FMTTYPE=image/jpeg:https://www.nxtgenmortuarysupport.com/wp-content/uploads/2023/03/53802.jpg
END:VEVENT
BEGIN:VEVENT
DTSTART;TZID=America/Phoenix:20221215T170000
DTEND;TZID=America/Phoenix:20221215T190000
DTSTAMP:20260423T175750
CREATED:20221123T221234Z
LAST-MODIFIED:20221209T184114Z
UID:13183-1671123600-1671130800@www.nxtgenmortuarysupport.com
SUMMARY:Bring Your Own Cat Holiday Party
DESCRIPTION:Join Cold Hands for a Cold Hands Holiday Event. Come\, bring your kitty and a glass of wine or egg nog. The cat with the cutest holiday attire wins. This is OUR holiday party! Join me to catch up\, win prizes and share in the holiday spirit! All proceeds go to Black Cat Rescue.
URL:https://www.nxtgenmortuarysupport.com/event/bring-your-own-cat-holiday-party-december-15/
CATEGORIES:Live Zoom Courses,Open to the Public
ATTACH;FMTTYPE=image/jpeg:https://www.nxtgenmortuarysupport.com/wp-content/uploads/2021/04/CU-AND-ME.jpg
END:VEVENT
END:VCALENDAR